BEGIN:VCALENDAR
VERSION:2.0
PRODID:Events Booking
BEGIN:VEVENT
UID:69ea1a3b2764b
SUMMARY:09.08.26 DONES MUNTANYA a LES LLOSSES
DESCRIPTION:Amb la presència dels directors de la pel·lícula\, la Sònia
  Armengol i l'Eduard Costa.
LOCATION:Plaça de Matamala 17512 les Llosses
DTSTART:20260809T200000Z
DTEND:20260809T215500Z
DTSTAMP:20260421T154004Z
ORGANIZER;CN=Entrades Transhumant:MAILTO:inscripcions@transhumant.com
GEO:0;2.050024
X-APPLE-STRUCTURED-LOCATION;VALUE=URI;X-ADDRESS=Plaça de Matamala 17512 le
 s Llosses;X-APPLE-RADIUS=72;X-TITLE=Plaça de Matamala\, Zona del prat\, L
 es Llosses:0;2.050024
END:VEVENT
END:VCALENDAR